BEGIN:VCALENDAR
VERSION:2.0
PRODID:-//Minnesota State Energy Center of Excellence - ECPv6.15.20//NONSGML v1.0//EN
CALSCALE:GREGORIAN
METHOD:PUBLISH
X-ORIGINAL-URL:https://www.energycareersminnesota.org
X-WR-CALDESC:Events for Minnesota State Energy Center of Excellence
REFRESH-INTERVAL;VALUE=DURATION:PT1H
X-Robots-Tag:noindex
X-PUBLISHED-TTL:PT1H
BEGIN:VTIMEZONE
TZID:America/Chicago
BEGIN:DAYLIGHT
TZOFFSETFROM:-0600
TZOFFSETTO:-0500
TZNAME:CDT
DTSTART:20230312T080000
END:DAYLIGHT
BEGIN:STANDARD
TZOFFSETFROM:-0500
TZOFFSETTO:-0600
TZNAME:CST
DTSTART:20231105T070000
END:STANDARD
BEGIN:DAYLIGHT
TZOFFSETFROM:-0600
TZOFFSETTO:-0500
TZNAME:CDT
DTSTART:20240310T080000
END:DAYLIGHT
BEGIN:STANDARD
TZOFFSETFROM:-0500
TZOFFSETTO:-0600
TZNAME:CST
DTSTART:20241103T070000
END:STANDARD
BEGIN:DAYLIGHT
TZOFFSETFROM:-0600
TZOFFSETTO:-0500
TZNAME:CDT
DTSTART:20250309T080000
END:DAYLIGHT
BEGIN:STANDARD
TZOFFSETFROM:-0500
TZOFFSETTO:-0600
TZNAME:CST
DTSTART:20251102T070000
END:STANDARD
END:VTIMEZONE
BEGIN:VEVENT
DTSTART;TZID=America/Chicago:20240430T093000
DTEND;TZID=America/Chicago:20240430T120000
DTSTAMP:20260419T080051
CREATED:20240418T180153Z
LAST-MODIFIED:20240418T180157Z
UID:8886-1714469400-1714478400@www.energycareersminnesota.org
SUMMARY:2024 MINNESOTA ENERGY FACTSHEET LAUNCH
DESCRIPTION:Save the Date for the 2024 Minnesota Energy Factsheet launch at the Science Museum of Minnesota (SMM)! The Minnesota Energy Factsheet is a companion to the 2024 Sustainable Energy in America Factbook. The Factsheet outlines key trends influencing national and state investment and economics\, energy supply and energy demand. As the American energy sector continues its transformation to cleaner\, cheaper sustainable energy\, Minnesota is a standout leader. \n\n\n\nDuring the launch event\, we will have local industry experts digging into the trends and share how they will impact Minnesota’s clean energy future. Prior to the presentation and panel discussion\, there will be an opportunity to network with business leaders and industry experts. Once the presentation and discussion concludes\, the Science Museum of Minnesota (SMM) will give us a behind the scenes tour of their innovative energy systems\, one of the many ways SMM supports the clean energy economy.
URL:https://www.energycareersminnesota.org/event/2024-minnesota-energy-factsheet-launch/
LOCATION:Science Museum of Minnesota\, 120 W Kellogg Blvd\, St. Paul\, Minnesota\, 55102\, United States
CATEGORIES:Community Education,Industry or Partner Event,Policy and Legislative,Professional Development
ATTACH;FMTTYPE=image/png:https://www.energycareersminnesota.org/wp-content/uploads/2024/04/2024-Factsheet-Launch-Event-Graphic-1440x810-1.png
ORGANIZER;CN="Clean Energy Economy MN":MAILTO:ceem@cleanenergyeconomymn.org
END:VEVENT
END:VCALENDAR